BEGIN:VCALENDAR
VERSION:2.0
PRODID:-//Maya Hakvoort - ECPv6.15.20//NONSGML v1.0//EN
CALSCALE:GREGORIAN
METHOD:PUBLISH
X-WR-CALNAME:Maya Hakvoort
X-ORIGINAL-URL:https://maya-hakvoort.com
X-WR-CALDESC:Veranstaltungen für Maya Hakvoort
REFRESH-INTERVAL;VALUE=DURATION:PT1H
X-Robots-Tag:noindex
X-PUBLISHED-TTL:PT1H
BEGIN:VTIMEZONE
TZID:Europe/Vienna
BEGIN:DAYLIGHT
TZOFFSETFROM:+0100
TZOFFSETTO:+0200
TZNAME:CEST
DTSTART:20250330T010000
END:DAYLIGHT
BEGIN:STANDARD
TZOFFSETFROM:+0200
TZOFFSETTO:+0100
TZNAME:CET
DTSTART:20251026T010000
END:STANDARD
BEGIN:DAYLIGHT
TZOFFSETFROM:+0100
TZOFFSETTO:+0200
TZNAME:CEST
DTSTART:20260329T010000
END:DAYLIGHT
BEGIN:STANDARD
TZOFFSETFROM:+0200
TZOFFSETTO:+0100
TZNAME:CET
DTSTART:20261025T010000
END:STANDARD
BEGIN:DAYLIGHT
TZOFFSETFROM:+0100
TZOFFSETTO:+0200
TZNAME:CEST
DTSTART:20270328T010000
END:DAYLIGHT
BEGIN:STANDARD
TZOFFSETFROM:+0200
TZOFFSETTO:+0100
TZNAME:CET
DTSTART:20271031T010000
END:STANDARD
END:VTIMEZONE
BEGIN:VEVENT
DTSTART;TZID=Europe/Vienna:20260705T150000
DTEND;TZID=Europe/Vienna:20260705T150000
DTSTAMP:20260420T131904
CREATED:20251127T154104Z
LAST-MODIFIED:20251127T173030Z
UID:9530-1783263600-1783263600@maya-hakvoort.com
SUMMARY:Maya Hakvoort-honoring Barbra Streisand
DESCRIPTION:Wer kennt sie nicht: Barbra Streisand. Ikone des Showbusiness. Vorbild für viele Künstler:innen. Produzentin\, Regisseurin\, Drehbuchautorin\, Schauspielerin\, \nSongschreiberin und begnadete Sängerin. \nMaya Hakvoort\, die Grande Dame des Musicals\, fand schon immer Inspiration im Leben und in den Liedern von Barbra Streisand und nimmt nun ihr Publikum an diesem Abend mit auf eine sehr persönliche musikalische Reise: \n„Ich werde diese wunderbaren Songs mit dem gleichen Maß an Hingabe und Perfektionismus interpretieren\, die sie selbst in ihrer Musik zeigt und werde gleichzeitig meinen eigenen Stil und meine Emotionen einbringen und so den Songs meine persönliche Note zu verleihen.“ \nIm Frühjahr 2024 feierte dieser spannende\, unterhaltsame Abend mit viel Tiefgang seine umjubelte Premiere. \nMusikalisch begleitet wird der Abend von dem Pianisten Martin Wöss. \nMaya Hakvoort lädt zu einem intimen und gleichzeitig wahrlich großen Abend – mit ihrem Publikum taucht sie ein in die fabelhafte Welt von Barbra Streisand.
URL:https://maya-hakvoort.com/kalender-mh/mya-hakvoort-honoring-barbra-streisand/
LOCATION:Kulturpavillon Semmering\, Hochstrasse 32b\, Semmering\, 2680
ATTACH;FMTTYPE=image/jpeg:https://maya-hakvoort.com/wp-content/uploads/2025/08/imager.jpg
END:VEVENT
END:VCALENDAR