BEGIN:VCALENDAR
VERSION:2.0
PRODID:-//Maya Hakvoort - ECPv6.15.20//NONSGML v1.0//EN
CALSCALE:GREGORIAN
METHOD:PUBLISH
X-WR-CALNAME:Maya Hakvoort
X-ORIGINAL-URL:https://maya-hakvoort.com
X-WR-CALDESC:Veranstaltungen für Maya Hakvoort
REFRESH-INTERVAL;VALUE=DURATION:PT1H
X-Robots-Tag:noindex
X-PUBLISHED-TTL:PT1H
BEGIN:VTIMEZONE
TZID:Europe/Vienna
BEGIN:DAYLIGHT
TZOFFSETFROM:+0100
TZOFFSETTO:+0200
TZNAME:CEST
DTSTART:20250330T010000
END:DAYLIGHT
BEGIN:STANDARD
TZOFFSETFROM:+0200
TZOFFSETTO:+0100
TZNAME:CET
DTSTART:20251026T010000
END:STANDARD
BEGIN:DAYLIGHT
TZOFFSETFROM:+0100
TZOFFSETTO:+0200
TZNAME:CEST
DTSTART:20260329T010000
END:DAYLIGHT
BEGIN:STANDARD
TZOFFSETFROM:+0200
TZOFFSETTO:+0100
TZNAME:CET
DTSTART:20261025T010000
END:STANDARD
BEGIN:DAYLIGHT
TZOFFSETFROM:+0100
TZOFFSETTO:+0200
TZNAME:CEST
DTSTART:20270328T010000
END:DAYLIGHT
BEGIN:STANDARD
TZOFFSETFROM:+0200
TZOFFSETTO:+0100
TZNAME:CET
DTSTART:20271031T010000
END:STANDARD
END:VTIMEZONE
BEGIN:VEVENT
DTSTART;TZID=Europe/Vienna:20260822T193000
DTEND;TZID=Europe/Vienna:20260822T223000
DTSTAMP:20260420T131413
CREATED:20260102T170911Z
LAST-MODIFIED:20260102T171944Z
UID:9619-1787427000-1787437800@maya-hakvoort.com
SUMMARY:Maya Hakvoort "Soundtracks meines Lebens"
DESCRIPTION:Die Grande Dame des Musicals gibt ganz private Einblicke in ihre musikalischen Erinnerungen! \n„Maya Hakvoort – Soundtracks meines Lebens“ – ein schwungvoller Abend voller Musik und „sweet memories“! Die Künstlerin lädt das Publikum mit ihrer außergewöhnlichen Stimme und unvergleichlichem Stil und Charisma auf eine Reise in ihre musikalische Vergangenheit ein und zeigt dabei auch eine spannende Facette ihrer Kunst: ihre Wandelbar- keit. Mit zeitlosen Hits von u.a. von Earth Wind & Fire\, Donna Summer\, Diana Ross\, Chaka Khan\, Al Jarreau oder Barry Manilow\, zu denen jeder Zuschauer eine Geschichte bekommt\, berührt sie alle Herzen und erfüllt die Bühne mit der ihr ganz eigenen Magie. \nErleben Sie Interpretationen von Songs\, die zu Soundtracks unser aller Leben wurden – von kraftvollen Balladen bis zu mitreißenden Tanznummern. Doch das ist noch nicht alles! Maya Hakvoort nimmt uns auch mit in die Welt des Jazz\, jenem Genre\, das ihre musikalische Entwicklung maßgeblich geprägt hat. Mit ihrer Leidenschaft für den Jazz und seinem Farbenreichtum schafft sie eine Atmosphäre voller Raffinesse und Eleganz. \nBegleitet wird Maya Hakvoort am Klavier von Martin Wöss und Herbert „Herb“ Berger an Tenorsaxophon\, Quer- flöte\, Klarinette und Mundharmonika – gemeinsam erwecken sie mit der ihrem virtuosen Spiel die Melodien zum Leben und untermalen den intimen Rahmen des Abends perfekt.
URL:https://maya-hakvoort.com/kalender-mh/maya-hakvoort-soundtracks-meines-lebens-3/
LOCATION:Mödling Pfarrplatz
ATTACH;FMTTYPE=image/webp:https://maya-hakvoort.com/wp-content/uploads/Maya-Hakvoort-1-c-Alexander-Haiden-scaled.webp
END:VEVENT
END:VCALENDAR